BEGIN:VCALENDAR
VERSION:2.0
PRODID:-//eventon.com NONSGML v1.0//EN
CALSCALE:GREGORIAN
METHOD:PUBLISH
BEGIN:VEVENT
UID:69ea259076006
DTSTAMP:20260423T135840Z
DTSTART:20240829T103000Z
DTEND:20240829T123000Z
LOCATION:
SUMMARY:Boxing puppets
DESCRIPTION:Make a moving mini boxing puppet with artist Caroline McCatty a
 nd then test it out on our puppet stage\,  based on a real-life fairground 
 boxing ring. Or\,  try out one of Caroline's giant boxing puppets in a knoc
 k-out contest with a family member! Tickets for this workshop are just £2.
 50.[..]\nhttps://www.gloucestercivictrust.org/events/boxing-puppets/
URL:https://www.gloucestercivictrust.org/events/boxing-puppets/
END:VEVENT
END:VCALENDAR